BEGIN:VCALENDAR
VERSION:2.0
CALSCALE:GREGORIAN
METHOD:REQUEST
PRODID:Community United Church
BEGIN:VEVENT
UID: 648869e62f0af32f1@
SUMMARY:11AM Sunday Morning Worship
DTSTAMP:20260420T095002
DTSTART:20260426T110000
DTEND:20260426T110000
LOCATION:
DESCRIPTION:Join us for our worship service that blends scripture, prayer, music (new and old), preaching, and weekly Communion! A children&#039;s message is offered each week.
STATUS:CONFIRMED
SEQUENCE:3
END:VEVENT
END:VCALENDAR